BEGIN:VCALENDAR
VERSION:2.0
PRODID:-//hacksw/handcal//NONSGML v1.0//EN
BEGIN:VEVENT
SUMMARY:ASSEMBLEE GENERALE DU CLUB
UID:124d6a52-eb82-4852-9b24-ff1df18e5a68
DTSTART:20260612T170000Z
DTEND:20260612T180000Z
LOCATION:Localisation   
CATEGORIES:Administratif
STATUS:
URL;VALUE=URI:https://cpfa.sportsregions.fr/evenements/2026/06/12/assemblee-generale-du-club-2439059
END:VEVENT
END:VCALENDAR
